BEGIN:VCALENDAR
VERSION:2.0
PRODID:icalendar-ruby
CALSCALE:GREGORIAN
METHOD:PUBLISH
BEGIN:VEVENT
DTSTAMP:20260422T114759Z
UID:5-477039@imivalueacademy.com
DTSTART:20261101T180000Z
DTEND:20261101T190000Z
CLASS:PUBLIC
CREATED:20260421T181706
DESCRIPTION:Sunday Worship
LAST-MODIFIED:20260421T181706
LOCATION:
SUMMARY:Sunday Worship
URL;VALUE=URI:https://www.imivalueacademy.com/events/sunday-worship/2026-11
 -01
END:VEVENT
END:VCALENDAR
