BEGIN:VCALENDAR
VERSION:2.0
PRODID:icalendar-ruby
CALSCALE:GREGORIAN
METHOD:PUBLISH
BEGIN:VEVENT
DTSTAMP:20260422T074119Z
UID:5-477036@imivalueacademy.com
DTSTART:20261011T170000Z
DTEND:20261011T180000Z
CLASS:PUBLIC
CREATED:20260421T181706
DESCRIPTION:Sunday Worship
LAST-MODIFIED:20260421T181706
LOCATION:
SUMMARY:Sunday Worship
URL;VALUE=URI:https://www.imivalueacademy.com/events/sunday-worship/2026-10
 -11
END:VEVENT
END:VCALENDAR
