BEGIN:VCALENDAR
VERSION:2.0
PRODID:icalendar-ruby
CALSCALE:GREGORIAN
METHOD:PUBLISH
BEGIN:VEVENT
DTSTAMP:20260422T004420Z
UID:5-476676@imivalueacademy.com
DTSTART:20260906T170000Z
DTEND:20260906T180000Z
CLASS:PUBLIC
CREATED:20260421T153816
DESCRIPTION:Sunday Worship
LAST-MODIFIED:20260421T153816
LOCATION:
SUMMARY:Sunday Worship
URL;VALUE=URI:https://www.imivalueacademy.com/events/sunday-worship/2026-09
 -06
END:VEVENT
END:VCALENDAR
